BEGIN:VCALENDAR
VERSION:2.0
PRODID:-//NUAS - ECPv6.15.20//NONSGML v1.0//EN
CALSCALE:GREGORIAN
METHOD:PUBLISH
X-ORIGINAL-URL:https://nuas.org
X-WR-CALDESC:Events for NUAS
REFRESH-INTERVAL;VALUE=DURATION:PT1H
X-Robots-Tag:noindex
X-PUBLISHED-TTL:PT1H
BEGIN:VTIMEZONE
TZID:Europe/Paris
BEGIN:DAYLIGHT
TZOFFSETFROM:+0100
TZOFFSETTO:+0200
TZNAME:CEST
DTSTART:20220327T010000
END:DAYLIGHT
BEGIN:STANDARD
TZOFFSETFROM:+0200
TZOFFSETTO:+0100
TZNAME:CET
DTSTART:20221030T010000
END:STANDARD
BEGIN:DAYLIGHT
TZOFFSETFROM:+0100
TZOFFSETTO:+0200
TZNAME:CEST
DTSTART:20230326T010000
END:DAYLIGHT
BEGIN:STANDARD
TZOFFSETFROM:+0200
TZOFFSETTO:+0100
TZNAME:CET
DTSTART:20231029T010000
END:STANDARD
BEGIN:DAYLIGHT
TZOFFSETFROM:+0100
TZOFFSETTO:+0200
TZNAME:CEST
DTSTART:20240331T010000
END:DAYLIGHT
BEGIN:STANDARD
TZOFFSETFROM:+0200
TZOFFSETTO:+0100
TZNAME:CET
DTSTART:20241027T010000
END:STANDARD
END:VTIMEZONE
BEGIN:VEVENT
DTSTART;TZID=Europe/Paris:20230510T120000
DTEND;TZID=Europe/Paris:20230510T170000
DTSTAMP:20260421T121438
CREATED:20230331T134420Z
LAST-MODIFIED:20230411T150007Z
UID:2488-1683720000-1683738000@nuas.org
SUMMARY:NUAS Group Leader meeting
DESCRIPTION:NUAS group leaders come together in person during the annual spring meeting. \nOur host is KTH Royal Institute of Technology. \n 
URL:https://nuas.org/event/nuas-group-leader-meeting/
LOCATION:KTH Royal Institute of Technology\, Brinellvägen 8\, Stockholm\, 114 28\, Sweden
CATEGORIES:Internal event,Meeting
ATTACH;FMTTYPE=image/jpeg:https://nuas.org/wp-content/uploads/2023/03/NUAS_logo_compact-1.jpg
END:VEVENT
BEGIN:VEVENT
DTSTART;TZID=Europe/Paris:20230511T090000
DTEND;TZID=Europe/Paris:20230511T130000
DTSTAMP:20260421T121438
CREATED:20230331T132951Z
LAST-MODIFIED:20230411T145725Z
UID:2482-1683795600-1683810000@nuas.org
SUMMARY:NUAS Board meeting
DESCRIPTION:The NUAS Board comes together in person for the annual spring meeting. \nOur host is KTH Royal Institute of Technology \n 
URL:https://nuas.org/event/nuas-board-meeting-2/
LOCATION:KTH Royal Institute of Technology\, Brinellvägen 8\, Stockholm\, 114 28\, Sweden
CATEGORIES:Internal event,Meeting
ATTACH;FMTTYPE=image/jpeg:https://nuas.org/wp-content/uploads/2023/03/NUAS_logo_compact-1.jpg
END:VEVENT
BEGIN:VEVENT
DTSTART;TZID=Europe/Paris:20230511T170000
DTEND;TZID=Europe/Paris:20230512T133000
DTSTAMP:20260421T121438
CREATED:20230328T165756Z
LAST-MODIFIED:20230405T231535Z
UID:2431-1683824400-1683898200@nuas.org
SUMMARY:Nordic University Directors Meeting
DESCRIPTION:How to govern our Nordic universities during the current geopolitical situation\nKey messages from highly qualified experts and leaders about:\nfreedom of speech\, national security and university democracy\nMore information about the meeting here
URL:https://nuas.org/event/nordic-university-directors-meeting-in-stockholm/
LOCATION:KTH Royal Institute of Technology\, Brinellvägen 8\, Stockholm\, 114 28\, Sweden
CATEGORIES:Meeting
ATTACH;FMTTYPE=image/jpeg:https://nuas.org/wp-content/uploads/2023/03/KTH2.jpg
END:VEVENT
END:VCALENDAR